View In:
ArcMap
ArcGIS Explorer
ArcGIS JavaScript
Google Earth
ArcGIS.com Map
View Footprint In:
Google Earth
Service Description:
Map Name: Layers
Legend
All Layers and Tables
Layers:
Tables:
Description:
Copyright Text:
Spatial Reference: 32636
Single Fused Map Cache: true
Tile Info:
- Height: 256
- Width: 256
- DPI: 96
- Levels of Detail: (# Levels: 15)
-
Level ID: 0
[Start Tile,
End Tile]
Resolution: 10837,3550080434
Scale: 40960000
-
Level ID: 1
[Start Tile,
End Tile]
Resolution: 5418,67750402168
Scale: 20480000
-
Level ID: 2
[Start Tile,
End Tile]
Resolution: 2709,33875201084
Scale: 10240000
-
Level ID: 3
[Start Tile,
End Tile]
Resolution: 1354,66937600542
Scale: 5120000
-
Level ID: 4
[Start Tile,
End Tile]
Resolution: 677,334688002709
Scale: 2560000
-
Level ID: 5
[Start Tile,
End Tile]
Resolution: 338,667344001355
Scale: 1280000
-
Level ID: 6
[Start Tile,
End Tile]
Resolution: 169,333672000677
Scale: 640000
-
Level ID: 7
[Start Tile,
End Tile]
Resolution: 84,6668360003387
Scale: 320000
-
Level ID: 8
[Start Tile,
End Tile]
Resolution: 42,3334180001693
Scale: 160000
-
Level ID: 9
[Start Tile,
End Tile]
Resolution: 21,1667090000847
Scale: 80000
-
Level ID: 10
[Start Tile,
End Tile]
Resolution: 10,5833545000423
Scale: 40000
-
Level ID: 11
[Start Tile,
End Tile]
Resolution: 5,29167725002117
Scale: 20000
-
Level ID: 12
[Start Tile,
End Tile]
Resolution: 2,64583862501058
Scale: 10000
-
Level ID: 13
[Start Tile,
End Tile]
Resolution: 1,32291931250529
Scale: 5000
-
Level ID: 14
[Start Tile,
End Tile]
Resolution: 0,661459656252646
Scale: 2500
- Format: PNG24
- Compression Quality: 0
-
Origin:
X: 306273,927641976
Y: 4030131,79643276
- Spatial Reference: 32636
Intial Extent:
XMin: 352358.327439896
YMin: 3776691.78936427
XMax: 715900.954394298
YMax: 3994990.70402328
Spatial Reference: 32636
Full Extent:
XMin: 352358.327439896
YMin: 3776691.78936427
XMax: 715900.954394298
YMax: 3994990.70402328
Spatial Reference: 32636
Units: esriMeters
Supported Image Format Types: PNG24,PNG,JPG,DIB,TIFF,EMF,PS,PDF,GIF,SVG,SVGZ,AI,BMP
Document Info:
- Title: cyprus050609
- Author: gianna
- Comments:
- Subject:
- Category:
- Keywords:
- Credits:
Supported Interfaces:
REST
SOAP
Supported Operations:
Export Map
Identify
Find
Generate KML